BEGIN:VCALENDAR
VERSION:2.0
CALSCALE:GREGORIAN
PRODID:adamgibbons/ics
METHOD:PUBLISH
X-PUBLISHED-TTL:PT1H
BEGIN:VEVENT
UID:2704@actions.nyc
SUMMARY:🇵🇸🇮🇪 A Concert of Solidarity: Ireland & Palestine\, A Fundraiser for 
	Concern
DTSTAMP:20260422T164150Z
DTSTART:20260328T000000Z
DESCRIPTION:This fundraiser seeks to fight the hunger crisis in Gaza. The e
	vent features an\nIrish-Palestinian Fusion Concert.\n\nA Concert of Solida
	rity: Ireland & Palestine\, A Fundraiser for Concern Worldwide\nUS - Gaza 
	Crisis Appeal. This fundraiser seeks to fight the hunger crisis in\nGaza. 
	The event features an Irish-Palestinian Fusion Concert withSebastian\nMcLa
	ughlin\, Eileen Goodman\, Nezih Antakli\, Sami Abu Shumays\, John Murchiso
	n\,\nColin Harte\, McManus dancers\, Poetry Reading- Andrew Alger.\n\n\n\n
	Tickets:\nhttps://www.eventbrite.com/e/a-concert-of-solidarity-ireland-pal
	estine-a-fundraiser-for-concern-tickets-1983177606607\n[https://www.eventb
	rite.com/e/a-concert-of-solidarity-ireland-palestine-a-fundraiser-for-conc
	ern-tickets-1983177606607]
URL:https://actions.nyc/event/a-concert-of-solidarity-ireland-and-palestine
	-a-fundraiser-for-concern
LOCATION:The Wild Goose (Woodside) - 54-20 Roosevelt Ave\, Woodside\, NY 11
	377\, United States
STATUS:CONFIRMED
CATEGORIES:arts-culture,palestine
X-ALT-DESC;FMTTYPE=text/html:<p>This fundraiser seeks to fight the hunger c
	risis in Gaza. The event features an Irish-Palestinian Fusion Concert.</p>
	<p>A Concert of Solidarity: Ireland &amp; Palestine, A Fundraiser for Conc
	ern Worldwide US - Gaza Crisis Appeal. This fundraiser seeks to fight the 
	hunger crisis in Gaza. The event features an Irish-Palestinian Fusion Conc
	ert withSebastian McLaughlin, Eileen Goodman, Nezih Antakli, Sami Abu Shum
	ays, John Murchison, Colin Harte, McManus dancers, Poetry Reading- Andrew 
	Alger.</p><p></p><p>Tickets: <a href="https://www.eventbrite.com/e/a-conce
	rt-of-solidarity-ireland-palestine-a-fundraiser-for-concern-tickets-198317
	7606607" target="_blank">https://www.eventbrite.com/e/a-concert-of-solidar
	ity-ireland-palestine-a-fundraiser-for-concern-tickets-1983177606607</a></
	p>
BEGIN:VALARM
ACTION:DISPLAY
DESCRIPTION:🇵🇸🇮🇪 A Concert of Solidarity: Ireland & Palestine, A Fundraiser f
	or Concern
TRIGGER:-PT1H
END:VALARM
END:VEVENT
END:VCALENDAR
