BEGIN:VCALENDAR
VERSION:2.0
CALSCALE:GREGORIAN
PRODID:adamgibbons/ics
METHOD:PUBLISH
X-PUBLISHED-TTL:PT1H
BEGIN:VEVENT
UID:2699@actions.nyc
SUMMARY:Daylight: A Discussion of New York City's Skyscraper Jails
DTSTAMP:20260422T131842Z
DTSTART:20260326T220000Z
DTEND:20260327T000000Z
DESCRIPTION:"Daylight" is a film about the demolition/construction/design o
	f jails on a site\nin Manhattan.\n\n"Skyscraper Jails" is a book about the
	 political history of the jails currently\nbeing built throughout New York
	 City\, written by Jarrod Shanahan and Zhandarka\nKurti.\n\nWe will be dis
	cussing the film and the book and architecture and language on\nMarch 26th
	 in Another World\, 629 Nostrand Avenue\, Brooklyn from 6-8pm. I would\nlo
	ve to see you there :)\n\nThank you so much to Jarrod & Zhandarka for doin
	g this with me and to Another\nWorld for hosting.\n\nAdmission is free but
	 donations are encourage
URL:https://actions.nyc/event/daylight-a-discussion-of-new-york-citys-skysc
	raper-jails
LOCATION:Another World (Crown Heights) - 629 Nostrand Ave\, Brooklyn\, NY 1
	1216
STATUS:CONFIRMED
CATEGORIES:arts-culture
X-ALT-DESC;FMTTYPE=text/html:<p>"Daylight" is a film about the demolition/c
	onstruction/design of jails on a site in Manhattan.<br><br>"Skyscraper Jai
	ls" is a book about the political history of the jails currently being bui
	lt throughout New York City, written by Jarrod Shanahan and Zhandarka Kurt
	i.<br><br>We will be discussing the film and the book and architecture and
	 language on March 26th in Another World, 629 Nostrand Avenue, Brooklyn fr
	om 6-8pm. I would love to see you there :)<br><br>Thank you so much to Jar
	rod &amp; Zhandarka for doing this with me and to Another World for hostin
	g.<br><br>Admission is free but donations are encourage</p>
BEGIN:VALARM
ACTION:DISPLAY
DESCRIPTION:Daylight: A Discussion of New York City's Skyscraper Jails
TRIGGER:-PT1H
END:VALARM
END:VEVENT
END:VCALENDAR
