BEGIN:VCALENDAR
VERSION:2.0
CALSCALE:GREGORIAN
PRODID:adamgibbons/ics
METHOD:PUBLISH
X-PUBLISHED-TTL:PT1H
BEGIN:VEVENT
UID:2762@actions.nyc
SUMMARY:Fiber Friends of Falastin
DTSTAMP:20260422T125902Z
DTSTART:20260511T220000Z
DTEND:20260512T000000Z
DESCRIPTION:@interferencearchive [https://www.instagram.com/p/DTYG4V3DmNA/]
	:\n\n"Join us for another year of monthly fiber arts meetups in support of
	 Palestine:\nFiber Friends of Falastin! All dates are listed in the graphi
	c. Check IG to\nconfirm dates\, and any schedule changes.\n\nSuggested don
	ation: $5-$10\n\nThis is an exploratory social activity for folks who have
	 basic crochet\,\nknitting\, sewing\, quilting\, weaving\, embroidery\, (a
	nd more!) skills\, and who are\ninterested in building community at the in
	tersection of textile-making and\nsocial movements.\n\nWe have yarn\, some
	 crochet hooks\, and some scissors to work on a group project\nin support 
	of Palestine. You are also welcome to bring your own tools and\nmaterials\
	, and related projects to work on.\n\nPlease note that this is not a works
	hop designed to teach skills\, although you\nmay learn new skills when you
	 come! To participate in the crochet activity you\nwill need to know how t
	o do a chain stitch and a single crochet stitch\, which\ncan be learned he
	re.\n\nMasking is always encouraged at Interference Archive. We will provi
	de masks at\nthe door."
URL:https://actions.nyc/event/fiber-friends-of-falastin-3
LOCATION:Interference Archive (Park Slope) - 314 7th St\, Brooklyn\, NY 112
	15
STATUS:CONFIRMED
CATEGORIES:arts-culture,palestine
X-ALT-DESC;FMTTYPE=text/html:<p><a href="https://www.instagram.com/p/DTYG4V
	3DmNA/" target="_blank">@interferencearchive</a>:</p><p>"Join us for anoth
	er year of monthly fiber arts meetups in support of Palestine: Fiber Frien
	ds of Falastin! All dates are listed in the graphic. Check IG to confirm d
	ates, and any schedule changes.</p><p>Suggested donation: $5-$10</p><p>Thi
	s is an exploratory social activity for folks who have basic crochet, knit
	ting, sewing, quilting, weaving, embroidery, (and more!) skills, and who a
	re interested in building community at the intersection of textile-making 
	and social movements.</p><p>We have yarn, some crochet hooks, and some sci
	ssors to work on a group project in support of Palestine. You are also wel
	come to bring your own tools and materials, and related projects to work o
	n.</p><p>Please note that this is not a workshop designed to teach skills,
	 although you may learn new skills when you come! To participate in the cr
	ochet activity you will need to know how to do a chain stitch and a single
	 crochet stitch, which can be learned here.</p><p>Masking is always encour
	aged at Interference Archive. We will provide masks at the door."</p>
BEGIN:VALARM
ACTION:DISPLAY
DESCRIPTION:Fiber Friends of Falastin
TRIGGER:-PT1H
END:VALARM
END:VEVENT
END:VCALENDAR
