BEGIN:VCALENDAR
VERSION:2.0
CALSCALE:GREGORIAN
PRODID:adamgibbons/ics
METHOD:PUBLISH
X-PUBLISHED-TTL:PT1H
BEGIN:VEVENT
UID:2739@actions.nyc
SUMMARY:NY-10 Neighbors for Palestine First Fridays
DTSTAMP:20260422T112911Z
DTSTART:20260501T203000Z
DTEND:20260501T213000Z
DESCRIPTION:🗓️ Friday\, Feb 6 & Friday\, Mar 6 @ 4:30-5:30pm\n📍 3rd Ave & 36
	th Street\, Brooklyn\n\nOn the first Friday of each month\, we’ll meet at 
	4:30pm instead of our regular\nmorning time. As usual\, we’ll protest Dan 
	Goldman’s support for genoc/de\, demand\nhe support the Block the Bombs ac
	t\, and talk with neighbors about how they can\ntake action with us. Then\
	, we’ll gather at a nearby establishment to warm up and\nconnect with our 
	comrades.\n\nJoin us to ring in the new year by recommitting ourselves to 
	the struggle for\ncollective liberation. In 2026\, we will continue to hol
	d our representatives to\naccount\, while building community and broadenin
	g our hyper local base of support\nfor Palestine.\n\nSocial afterwards (Ad
	dress for social will be shared in person\; DM if arriving\nlate.)
URL:https://actions.nyc/event/ny-10-neighbors-for-palestine-first-fridays-4
LOCATION:Congressman Dan Goldman District Office - Congressman Dan Goldman 
	District Office
STATUS:CONFIRMED
CATEGORIES:protest
X-ALT-DESC;FMTTYPE=text/html:<p>🗓️ Friday, Feb 6 &amp; Friday, Mar 6 @ 4:30-
	5:30pm<br>📍 3rd Ave &amp; 36th Street, Brooklyn</p><p>On the first Friday 
	of each month, we’ll meet at 4:30pm instead of our regular morning time. A
	s usual, we’ll protest Dan Goldman’s support for genoc/de, demand he suppo
	rt the Block the Bombs act, and talk with neighbors about how they can tak
	e action with us. Then, we’ll gather at a nearby establishment to warm up 
	and connect with our comrades. <br><br>Join us to ring in the new year by 
	recommitting ourselves to the struggle for collective liberation. In 2026,
	 we will continue to hold our representatives to account, while building c
	ommunity and broadening our hyper local base of support for Palestine. <br
	><br>Social afterwards (Address for social will be shared in person; DM if
	 arriving late.)</p>
BEGIN:VALARM
ACTION:DISPLAY
DESCRIPTION:NY-10 Neighbors for Palestine First Fridays
TRIGGER:-PT1H
END:VALARM
END:VEVENT
END:VCALENDAR
