BEGIN:VCALENDAR
VERSION:2.0
CALSCALE:GREGORIAN
PRODID:adamgibbons/ics
METHOD:PUBLISH
X-PUBLISHED-TTL:PT1H
BEGIN:VEVENT
UID:2712@actions.nyc
SUMMARY:Repair Cafe Brooklyn
DTSTAMP:20260422T113153Z
DTSTART:20260426T140000Z
DTEND:20260426T170000Z
URL:https://actions.nyc/event/repair-cafe-brooklyn-2
LOCATION:Another World (Crown Heights) - 629 Nostrand Ave\, Brooklyn\, NY 1
	1216
STATUS:CONFIRMED
CATEGORIES:mutual-aid
END:VEVENT
END:VCALENDAR
